BEGIN:VCALENDAR
VERSION:2.0
PRODID:-//Squarespace Inc/Squarespace 6//v6//EN
BEGIN:VEVENT
UID:5d50127a8c9c7e0001a04a66@squarespace.com
DTSTAMP:20191218T003436Z
DTSTART:20191231T020000Z
DTEND:20191231T030000Z
SUMMARY:George Jackson- Old Time Fiddle Workshop
END:VEVENT
END:VCALENDAR
