BEGIN:VCALENDAR
VERSION:2.0
PRODID:-//Squarespace Inc/Squarespace 6//v6//EN
BEGIN:VEVENT
UID:5df9848f62595e709093091f@squarespace.com
DTSTAMP:20191218T014538Z
DTSTART:20191230T213000Z
DTEND:20191230T230000Z
SUMMARY:Square Dance Workshop
END:VEVENT
END:VCALENDAR
