BEGIN:VCALENDAR
VERSION:2.0
PRODID:-//Squarespace Inc/Squarespace 6//v6//EN
BEGIN:VEVENT
UID:5df983b412633f569b6f1934@squarespace.com
DTSTAMP:20191218T014844Z
DTSTART:20191231T010000Z
DTEND:20191231T020000Z
SUMMARY:Scott Cook - Reverse Engineering of Songs Workshop
END:VEVENT
END:VCALENDAR
