BEGIN:VCALENDAR
VERSION:2.0
PRODID:-//Squarespace Inc/Squarespace 6//v6//EN
BEGIN:VEVENT
UID:5df98513833c9f20389944d7@squarespace.com
DTSTAMP:20191218T014910Z
DTSTART:20191231T030000Z
DTEND:20191231T040000Z
SUMMARY:Song writers in the round with Nadia Reid
END:VEVENT
END:VCALENDAR
