BEGIN:VCALENDAR
VERSION:2.0
PRODID:-//Squarespace Inc/Squarespace 6//v6//EN
BEGIN:VEVENT
UID:5df985962ef84a2cce0c433d@squarespace.com
DTSTAMP:20191218T015157Z
DTSTART:20200101T030000Z
DTEND:20200101T040000Z
SUMMARY:Electronics for Acoustic Instruments Workshop
END:VEVENT
END:VCALENDAR
