BEGIN:VCALENDAR
VERSION:2.0
PRODID:-//Squarespace Inc/Squarespace 6//v6//EN
BEGIN:VEVENT
UID:5df98b4212633f569b6fed49@squarespace.com
DTSTAMP:20191218T022608Z
DTSTART:20200102T030000Z
DTEND:20200102T040000Z
SUMMARY:A Yarn with Archer
END:VEVENT
END:VCALENDAR
