BEGIN:VCALENDAR
VERSION:2.0
PRODID:-//Squarespace Inc/Squarespace 6//v6//EN
BEGIN:VEVENT
UID:5d50152c56f2230001c9e60e@squarespace.com
DTSTAMP:20191125T225536Z
DTSTART:20200102T070000Z
DTEND:20200102T100000Z
SUMMARY:Sarah and Catherine Brown
END:VEVENT
END:VCALENDAR
