BEGIN:VCALENDAR
VERSION:2.0
PRODID:-//Squarespace Inc/Squarespace 6//v6//EN
BEGIN:VEVENT
UID:5ddb067081fab20e4f32e639@squarespace.com
DTSTAMP:20191125T050113Z
DTSTART:20191231T000000Z
DTEND:20191231T010000Z
SUMMARY:Sarah and Catherine Brown
END:VEVENT
END:VCALENDAR
