BEGIN:VCALENDAR
VERSION:2.0
PRODID:-//Squarespace Inc/Squarespace 6//v6//EN
BEGIN:VEVENT
UID:5d50120eba218e000133810e@squarespace.com
DTSTAMP:20191125T045553Z
DTSTART:20200101T220000Z
DTEND:20200101T230000Z
SUMMARY:Lara Rose
END:VEVENT
END:VCALENDAR
