BEGIN:VCALENDAR
VERSION:2.0
PRODID:-//Squarespace Inc/Squarespace 6//v6//EN
BEGIN:VEVENT
UID:5d5015b6a18d7b0001051c1d@squarespace.com
DTSTAMP:20191127T013556Z
DTSTART:20200102T013000Z
DTEND:20200102T023000Z
SUMMARY:Swing Dance
END:VEVENT
END:VCALENDAR
