BEGIN:VCALENDAR
VERSION:2.0
PRODID:-//Squarespace Inc/Squarespace 6//v6//EN
BEGIN:VEVENT
UID:5ddc93e75957c152ac1e16ea@squarespace.com
DTSTAMP:20191126T025543Z
DTSTART:20200101T070000Z
DTEND:20200101T100000Z
SUMMARY:Special Mystery Guest
END:VEVENT
END:VCALENDAR
