BEGIN:VCALENDAR
VERSION:2.0
PRODID:-//Squarespace Inc/Squarespace 6//v6//EN
BEGIN:VEVENT
UID:5d50115a945f2e00011b0364@squarespace.com
DTSTAMP:20191127T231506Z
DTSTART:20200101T020000Z
DTEND:20200101T030000Z
SUMMARY:Scott Cook
END:VEVENT
END:VCALENDAR
