BEGIN:VCALENDAR
VERSION:2.0
PRODID:-//Squarespace Inc/Squarespace 6//v6//EN
BEGIN:VEVENT
UID:5ddb27fc9de5330a90c68a07@squarespace.com
DTSTAMP:20191125T052759Z
DTSTART:20200102T070000Z
DTEND:20200102T100000Z
SUMMARY:Scott Cook
END:VEVENT
END:VCALENDAR
