BEGIN:VCALENDAR
VERSION:2.0
PRODID:-//Squarespace Inc/Squarespace 6//v6//EN
BEGIN:VEVENT
UID:5d50101956f2230001c9c879@squarespace.com
DTSTAMP:20191212T040325Z
DTSTART:20191230T210000Z
DTEND:20191231T100000Z
SUMMARY:Kids Programme: Rainbow Rosalind 'Let's Sing!' 
END:VEVENT
END:VCALENDAR
