BEGIN:VCALENDAR
VERSION:2.0
PRODID:-//Squarespace Inc/Squarespace 6//v6//EN
BEGIN:VEVENT
UID:5df1b784ed917042ff5f9887@squarespace.com
DTSTAMP:20191212T040247Z
DTSTART:20200101T010000Z
DTEND:20200101T020000Z
SUMMARY:Kids Programme: Rainbow Rosalind 'Let's Dance!' 
END:VEVENT
END:VCALENDAR
