BEGIN:VCALENDAR
VERSION:2.0
PRODID:-//Squarespace Inc/Squarespace 6//v6//EN
BEGIN:VEVENT
UID:5df04b7f2d29ee4070d96d2f@squarespace.com
DTSTAMP:20191212T040319Z
DTSTART:20191230T200000Z
DTEND:20191230T210000Z
SUMMARY:Kids Programme: Morning Music with Natasha Manowitz 
END:VEVENT
END:VCALENDAR
