BEGIN:VCALENDAR
VERSION:2.0
PRODID:-//Squarespace Inc/Squarespace 6//v6//EN
BEGIN:VEVENT
UID:5df1bb56f1406f6ff7b38190@squarespace.com
DTSTAMP:20191212T040230Z
DTSTART:20200102T010000Z
DTEND:20200102T020000Z
SUMMARY:Rainbow Rosalind: "Children's Song writing FOR ADULTS'
END:VEVENT
END:VCALENDAR
