BEGIN:VCALENDAR
VERSION:2.0
PRODID:-//Squarespace Inc/Squarespace 6//v6//EN
BEGIN:VEVENT
UID:5ddef44502bf4d324ff0cfc8@squarespace.com
DTSTAMP:20191127T221316Z
DTSTART:20191231T230000Z
DTEND:20200101T000000Z
SUMMARY:Both Sides of the Line
END:VEVENT
END:VCALENDAR
