BEGIN:VCALENDAR
VERSION:2.0
PRODID:-//Squarespace Inc/Squarespace 6//v6//EN
BEGIN:VEVENT
UID:5d5545e34ef8e40001cb267d@squarespace.com
DTSTAMP:20191126T002354Z
DTSTART:20200102T070000Z
DTEND:20200102T100000Z
SUMMARY:Skin and Bone
END:VEVENT
END:VCALENDAR
