BEGIN:VCALENDAR
VERSION:2.0
PRODID:-//Squarespace Inc/Squarespace 6//v6//EN
BEGIN:VEVENT
UID:5ddb06f285e3643e17831645@squarespace.com
DTSTAMP:20191125T051529Z
DTSTART:20191231T105000Z
DTEND:20191231T122000Z
SUMMARY:Adam Hattaway and the Haunters
END:VEVENT
END:VCALENDAR
