BEGIN:VCALENDAR
VERSION:2.0
PRODID:-//Squarespace Inc/Squarespace 6//v6//EN
BEGIN:VEVENT
UID:5ddb27a2a46d122f383a5c41@squarespace.com
DTSTAMP:20191125T045631Z
DTSTART:20200102T030000Z
DTEND:20200102T040000Z
SUMMARY:Adam Hattaway and the Haunters
END:VEVENT
END:VCALENDAR
