BEGIN:VCALENDAR
VERSION:2.0
PRODID:-//Squarespace Inc/Squarespace 6//v6//EN
BEGIN:VEVENT
UID:5ddc6b676bc7a818d556a82a@squarespace.com
DTSTAMP:20191126T000417Z
DTSTART:20200101T070000Z
DTEND:20200101T100000Z
SUMMARY:The Broken Heartbreakers
END:VEVENT
END:VCALENDAR
