BEGIN:VCALENDAR
VERSION:2.0
PRODID:-//Squarespace Inc/Squarespace 6//v6//EN
BEGIN:VEVENT
UID:5ddc6c01b7381f2f11d23650@squarespace.com
DTSTAMP:20191126T000722Z
DTSTART:20200102T020000Z
DTEND:20200102T030000Z
SUMMARY:The Broken Heartbreakers
END:VEVENT
END:VCALENDAR
