BEGIN:VCALENDAR
VERSION:2.0
PRODID:-//Squarespace Inc/Squarespace 6//v6//EN
BEGIN:VEVENT
UID:5d4ac049a9313a00010ee801@squarespace.com
DTSTAMP:20191125T044450Z
DTSTART:20200101T070000Z
DTEND:20200101T100000Z
SUMMARY:Barry Saunders
END:VEVENT
END:VCALENDAR
