BEGIN:VCALENDAR
VERSION:2.0
PRODID:-//Squarespace Inc/Squarespace 6//v6//EN
BEGIN:VEVENT
UID:5d4fe7dc7ed3b60001c5fd64@squarespace.com
DTSTAMP:20191125T050658Z
DTSTART:20200102T000000Z
DTEND:20200102T010000Z
SUMMARY:Motte
END:VEVENT
END:VCALENDAR
