BEGIN:VCALENDAR
VERSION:2.0
PRODID:-//Squarespace Inc/Squarespace 6//v6//EN
BEGIN:VEVENT
UID:5d4fe822567c8a0001a8fce7@squarespace.com
DTSTAMP:20191124T224026Z
DTSTART:20191231T070000Z
DTEND:20191231T105900Z
SUMMARY:Ceilidh 
END:VEVENT
END:VCALENDAR
