BEGIN:VCALENDAR
VERSION:2.0
PRODID:-//Squarespace Inc/Squarespace 6//v6//EN
BEGIN:VEVENT
UID:5d4aca80cdec850001babec4@squarespace.com
DTSTAMP:20191125T010519Z
DTSTART:20200102T070000Z
DTEND:20200102T100000Z
SUMMARY:Wai.Tai
END:VEVENT
END:VCALENDAR
