BEGIN:VCALENDAR
VERSION:2.0
PRODID:-//Squarespace Inc/Squarespace 6//v6//EN
BEGIN:VEVENT
UID:5d36fd7f339e910001a4cf77@squarespace.com
DTSTAMP:20191125T224156Z
DTSTART:20200101T030000Z
DTEND:20200101T040000Z
SUMMARY:Rachel Baiman and George Jackson
END:VEVENT
END:VCALENDAR
