BEGIN:VCALENDAR
VERSION:2.0
PRODID:-//Squarespace Inc/Squarespace 6//v6//EN
BEGIN:VEVENT
UID:5d4ad1d3c6696600018ffbf1@squarespace.com
DTSTAMP:20191125T223847Z
DTSTART:20200102T070000Z
DTEND:20200102T100000Z
SUMMARY:Rachel Baiman
END:VEVENT
END:VCALENDAR
