BEGIN:VCALENDAR
VERSION:2.0
PRODID:-//Squarespace Inc/Squarespace 6//v6//EN
BEGIN:VEVENT
UID:5d36fb8258da7900017715d2@squarespace.com
DTSTAMP:20191125T050452Z
DTSTART:20200102T070000Z
DTEND:20200102T100000Z
SUMMARY:Mickey And Michelle
END:VEVENT
END:VCALENDAR
