BEGIN:VCALENDAR
VERSION:2.0
PRODID:-//Squarespace Inc/Squarespace 6//v6//EN
BEGIN:VEVENT
UID:5d4ac58ca9313a00010f05f8@squarespace.com
DTSTAMP:20191212T035546Z
DTSTART:20191230T230000Z
DTEND:20191231T000000Z
SUMMARY:Mickey And Michelle
END:VEVENT
END:VCALENDAR
