BEGIN:VCALENDAR
VERSION:2.0
PRODID:-//Squarespace Inc/Squarespace 6//v6//EN
BEGIN:VEVENT
UID:5d4ac0fc438fce0001775907@squarespace.com
DTSTAMP:20191125T042055Z
DTSTART:20200101T070000Z
DTEND:20200101T100000Z
SUMMARY:Looking For Alaska
END:VEVENT
END:VCALENDAR
