BEGIN:VCALENDAR
VERSION:2.0
PRODID:-//Squarespace Inc/Squarespace 6//v6//EN
BEGIN:VEVENT
UID:5d4ad27de086f0000176a021@squarespace.com
DTSTAMP:20191212T035529Z
DTSTART:20191230T063000Z
DTEND:20191230T100000Z
SUMMARY:Local Acts Evening Concert
END:VEVENT
END:VCALENDAR
