BEGIN:VCALENDAR
VERSION:2.0
PRODID:-//Squarespace Inc/Squarespace 6//v6//EN
BEGIN:VEVENT
UID:5d4ad152ba74d800015d25fe@squarespace.com
DTSTAMP:20191125T224212Z
DTSTART:20200102T070000Z
DTEND:20200102T100000Z
SUMMARY:George Jackson
END:VEVENT
END:VCALENDAR
