BEGIN:VCALENDAR
VERSION:2.0
PRODID:-//Squarespace Inc/Squarespace 6//v6//EN
BEGIN:VEVENT
UID:5d4abf6c1f90370001dc251a@squarespace.com
DTSTAMP:20191125T052406Z
DTSTART:20200101T070000Z
DTEND:20200101T100000Z
SUMMARY:ARCHER
END:VEVENT
END:VCALENDAR
